Package: switchde Version: 1.28.0 Command: chmod a+r switchde -R && F:\biocbuild\bbs-3.18-bioc\R\bin\R.exe CMD build --keep-empty-dirs --no-resave-data switchde StartedAt: 2024-04-15 21:35:51 -0400 (Mon, 15 Apr 2024) EndedAt: 2024-04-15 21:37:03 -0400 (Mon, 15 Apr 2024) EllapsedTime: 71.9 seconds RetCode: 0 Status: OK PackageFile: switchde_1.28.0.tar.gz PackageFileSize: 489.3 KiB