Package: switchde Version: 1.28.0 Command: /home/biocbuild/bbs-3.18-bioc/R/bin/R CMD build --keep-empty-dirs --no-resave-data switchde StartedAt: 2024-04-15 19:31:25 -0400 (Mon, 15 Apr 2024) EndedAt: 2024-04-15 19:32:02 -0400 (Mon, 15 Apr 2024) EllapsedTime: 36.9 seconds RetCode: 0 Status: OK PackageFile: switchde_1.28.0.tar.gz PackageFileSize: 970 KiB