Package: switchde Version: 1.28.0 Command: /Library/Frameworks/R.framework/Resources/bin/R CMD INSTALL switchde StartedAt: 2024-03-03 15:14:15 -0500 (Sun, 03 Mar 2024) EndedAt: 2024-03-03 15:14:49 -0500 (Sun, 03 Mar 2024) EllapsedTime: 34.4 seconds RetCode: 0 Status: OK