Package: switchde Version: 1.28.0 Command: /Library/Frameworks/R.framework/Resources/bin/R CMD build --keep-empty-dirs --no-resave-data switchde StartedAt: 2024-03-03 18:32:33 -0500 (Sun, 03 Mar 2024) EndedAt: 2024-03-03 18:33:26 -0500 (Sun, 03 Mar 2024) EllapsedTime: 53.4 seconds RetCode: 0 Status: OK PackageFile: switchde_1.28.0.tar.gz PackageFileSize: 976.1 KiB