Package: switchde Version: 1.28.0 Maintainer: Kieran Campbell MaintainerEmail: kieranrcampbell at gmail.com git_url: https://git.bioconductor.org/packages/switchde git_branch: RELEASE_3_18 git_last_commit: 61db86f git_last_commit_date: 2023-10-24 10:52:04 -0400 (Tue, 24 Oct 2023)