Package: switchBox Version: 1.38.0 Command: rm -rf switchBox.buildbin-libdir && mkdir switchBox.buildbin-libdir && F:\biocbuild\bbs-3.18-bioc\R\bin\R.exe CMD INSTALL --build --library=switchBox.buildbin-libdir switchBox_1.38.0.tar.gz StartedAt: 2024-04-16 07:46:40 -0400 (Tue, 16 Apr 2024) EndedAt: 2024-04-16 07:46:55 -0400 (Tue, 16 Apr 2024) EllapsedTime: 15.2 seconds RetCode: 0 Status: OK PackageFile: switchBox_1.38.0.zip PackageFileSize: 646.7 KiB