Package: switchBox Version: 1.38.0 Command: /Library/Frameworks/R.framework/Resources/bin/R CMD build --keep-empty-dirs --no-resave-data switchBox StartedAt: 2024-03-03 18:32:30 -0500 (Sun, 03 Mar 2024) EndedAt: 2024-03-03 18:32:45 -0500 (Sun, 03 Mar 2024) EllapsedTime: 15.7 seconds RetCode: 0 Status: OK PackageFile: switchBox_1.38.0.tar.gz PackageFileSize: 471.5 KiB