Package: svaRetro Version: 1.8.0 Command: rm -rf svaRetro.buildbin-libdir && mkdir svaRetro.buildbin-libdir && F:\biocbuild\bbs-3.18-bioc\R\bin\R.exe CMD INSTALL --build --library=svaRetro.buildbin-libdir svaRetro_1.8.0.tar.gz StartedAt: 2024-04-16 07:46:32 -0400 (Tue, 16 Apr 2024) EndedAt: 2024-04-16 07:47:26 -0400 (Tue, 16 Apr 2024) EllapsedTime: 54.3 seconds RetCode: 0 Status: OK PackageFile: svaRetro_1.8.0.zip PackageFileSize: 1.467 MiB