Package: svaRetro Version: 1.8.0 Command: /Library/Frameworks/R.framework/Resources/bin/R CMD INSTALL svaRetro StartedAt: 2024-04-15 15:52:38 -0400 (Mon, 15 Apr 2024) EndedAt: 2024-04-15 15:54:02 -0400 (Mon, 15 Apr 2024) EllapsedTime: 84.4 seconds RetCode: 0 Status: OK