Package: svaRetro Version: 1.8.0 Command: /Library/Frameworks/R.framework/Resources/bin/R CMD INSTALL svaRetro StartedAt: 2024-03-03 15:22:36 -0500 (Sun, 03 Mar 2024) EndedAt: 2024-03-03 15:23:33 -0500 (Sun, 03 Mar 2024) EllapsedTime: 56.4 seconds RetCode: 0 Status: OK