Package: svaRetro Version: 1.8.0 Command: /Library/Frameworks/R.framework/Resources/bin/R CMD build --keep-empty-dirs --no-resave-data svaRetro StartedAt: 2024-03-03 18:32:14 -0500 (Sun, 03 Mar 2024) EndedAt: 2024-03-03 18:33:43 -0500 (Sun, 03 Mar 2024) EllapsedTime: 89.2 seconds RetCode: 0 Status: OK PackageFile: svaRetro_1.8.0.tar.gz PackageFileSize: 1.533 MiB