Package: svaRetro Version: 1.8.0 Command: rm -rf svaRetro.buildbin-libdir && mkdir svaRetro.buildbin-libdir && /Users/biocbuild/BBS/utils/build-universal.sh svaRetro_1.8.0.tar.gz /Library/Frameworks/R.framework/Resources/bin/R svaRetro.buildbin-libdir StartedAt: 2024-03-04 01:07:46 -0500 (Mon, 04 Mar 2024) EndedAt: 2024-03-04 01:08:48 -0500 (Mon, 04 Mar 2024) EllapsedTime: 61.5 seconds RetCode: 0 Status: OK PackageFile: svaRetro_1.8.0.tgz PackageFileSize: 1.529 MiB