Package: svaRetro Version: 1.8.0 Command: /home/biocbuild/R/R-4.3.1/bin/R CMD check --install=check:svaRetro.install-out.txt --library=/home/biocbuild/R/R-4.3.1/site-library --no-vignettes --timings svaRetro_1.8.0.tar.gz StartedAt: 2023-11-02 14:44:50 -0000 (Thu, 02 Nov 2023) EndedAt: 2023-11-02 14:52:30 -0000 (Thu, 02 Nov 2023) EllapsedTime: 459.8 seconds RetCode: 0 Status: OK CheckDir: svaRetro.Rcheck Warnings: 0