Package: svaNUMT Version: 1.8.0 Command: rm -rf svaNUMT.buildbin-libdir && mkdir svaNUMT.buildbin-libdir && /Users/biocbuild/BBS/utils/build-universal.sh svaNUMT_1.8.0.tar.gz /Library/Frameworks/R.framework/Resources/bin/R svaNUMT.buildbin-libdir StartedAt: 2024-03-04 01:07:46 -0500 (Mon, 04 Mar 2024) EndedAt: 2024-03-04 01:08:47 -0500 (Mon, 04 Mar 2024) EllapsedTime: 60.3 seconds RetCode: 0 Status: OK PackageFile: svaNUMT_1.8.0.tgz PackageFileSize: 673.5 KiB