Package: surfaltr Version: 1.8.0 Command: rm -rf surfaltr.buildbin-libdir && mkdir surfaltr.buildbin-libdir && F:\biocbuild\bbs-3.18-bioc\R\bin\R.exe CMD INSTALL --build --library=surfaltr.buildbin-libdir surfaltr_1.8.0.tar.gz StartedAt: 2024-04-16 07:46:24 -0400 (Tue, 16 Apr 2024) EndedAt: 2024-04-16 07:46:52 -0400 (Tue, 16 Apr 2024) EllapsedTime: 28.3 seconds RetCode: 0 Status: OK PackageFile: surfaltr_1.8.0.zip PackageFileSize: 1.843 MiB