Package: surfaltr Version: 1.8.0 Command: /Library/Frameworks/R.framework/Resources/bin/R CMD INSTALL surfaltr StartedAt: 2024-03-03 15:27:57 -0500 (Sun, 03 Mar 2024) EndedAt: 2024-03-03 15:28:22 -0500 (Sun, 03 Mar 2024) EllapsedTime: 25.2 seconds RetCode: 0 Status: OK