Package: subSeq Version: 1.32.0 Command: /Library/Frameworks/R.framework/Resources/bin/R CMD build --keep-empty-dirs --no-resave-data subSeq StartedAt: 2024-03-03 18:31:43 -0500 (Sun, 03 Mar 2024) EndedAt: 2024-03-03 18:32:30 -0500 (Sun, 03 Mar 2024) EllapsedTime: 47.2 seconds RetCode: 0 Status: OK PackageFile: subSeq_1.32.0.tar.gz PackageFileSize: 2.917 MiB