Package: struct Version: 1.14.1 Command: rm -rf struct.buildbin-libdir && mkdir struct.buildbin-libdir && F:\biocbuild\bbs-3.18-bioc\R\bin\R.exe CMD INSTALL --build --library=struct.buildbin-libdir struct_1.14.1.tar.gz StartedAt: 2024-04-16 07:46:06 -0400 (Tue, 16 Apr 2024) EndedAt: 2024-04-16 07:46:49 -0400 (Tue, 16 Apr 2024) EllapsedTime: 42.9 seconds RetCode: 0 Status: OK PackageFile: struct_1.14.1.zip PackageFileSize: 1.53 MiB