Package: struct Version: 1.14.1 Command: rm -rf struct.buildbin-libdir && mkdir struct.buildbin-libdir && /Users/biocbuild/BBS/utils/build-universal.sh struct_1.14.1.tar.gz /Library/Frameworks/R.framework/Resources/bin/R struct.buildbin-libdir StartedAt: 2024-04-16 12:49:56 -0400 (Tue, 16 Apr 2024) EndedAt: 2024-04-16 12:50:57 -0400 (Tue, 16 Apr 2024) EllapsedTime: 60.5 seconds RetCode: 0 Status: OK PackageFile: struct_1.14.1.tgz PackageFileSize: 1.575 MiB