Package: struct Version: 1.14.1 Command: /Library/Frameworks/R.framework/Resources/bin/R CMD build --keep-empty-dirs --no-resave-data struct StartedAt: 2024-03-03 18:31:04 -0500 (Sun, 03 Mar 2024) EndedAt: 2024-03-03 18:31:49 -0500 (Sun, 03 Mar 2024) EllapsedTime: 45.1 seconds RetCode: 0 Status: OK PackageFile: struct_1.14.1.tar.gz PackageFileSize: 595.2 KiB