Package: stepNorm Version: 1.74.0 Command: /Library/Frameworks/R.framework/Resources/bin/R CMD check --install=check:stepNorm.install-out.txt --library=/Library/Frameworks/R.framework/Resources/library --no-vignettes --timings stepNorm_1.74.0.tar.gz StartedAt: 2024-03-03 23:47:16 -0500 (Sun, 03 Mar 2024) EndedAt: 2024-03-03 23:48:38 -0500 (Sun, 03 Mar 2024) EllapsedTime: 81.6 seconds RetCode: 0 Status: OK CheckDir: stepNorm.Rcheck Warnings: 0