Package: statTarget Version: 1.32.0 Command: rm -rf statTarget.buildbin-libdir && mkdir statTarget.buildbin-libdir && F:\biocbuild\bbs-3.18-bioc\R\bin\R.exe CMD INSTALL --build --library=statTarget.buildbin-libdir statTarget_1.32.0.tar.gz StartedAt: 2024-04-16 07:45:49 -0400 (Tue, 16 Apr 2024) EndedAt: 2024-04-16 07:46:03 -0400 (Tue, 16 Apr 2024) EllapsedTime: 13.9 seconds RetCode: 0 Status: OK PackageFile: statTarget_1.32.0.zip PackageFileSize: 977 KiB