Package: statTarget Version: 1.32.0 Command: /Library/Frameworks/R.framework/Resources/bin/R CMD build --keep-empty-dirs --no-resave-data statTarget StartedAt: 2024-04-15 22:22:46 -0400 (Mon, 15 Apr 2024) EndedAt: 2024-04-15 22:23:08 -0400 (Mon, 15 Apr 2024) EllapsedTime: 21.8 seconds RetCode: 0 Status: OK PackageFile: statTarget_1.32.0.tar.gz PackageFileSize: 779 KiB