Package: statTarget Version: 1.32.0 Command: rm -rf statTarget.buildbin-libdir && mkdir statTarget.buildbin-libdir && /Users/biocbuild/BBS/utils/build-universal.sh statTarget_1.32.0.tar.gz /Library/Frameworks/R.framework/Resources/bin/R statTarget.buildbin-libdir StartedAt: 2024-04-16 12:49:42 -0400 (Tue, 16 Apr 2024) EndedAt: 2024-04-16 12:49:59 -0400 (Tue, 16 Apr 2024) EllapsedTime: 17.3 seconds RetCode: 0 Status: OK PackageFile: statTarget_1.32.0.tgz PackageFileSize: 972.9 KiB