Package: statTarget Version: 1.32.0 Command: rm -rf statTarget.buildbin-libdir && mkdir statTarget.buildbin-libdir && /Users/biocbuild/BBS/utils/build-universal.sh statTarget_1.32.0.tar.gz /Library/Frameworks/R.framework/Resources/bin/R statTarget.buildbin-libdir StartedAt: 2024-03-04 01:07:17 -0500 (Mon, 04 Mar 2024) EndedAt: 2024-03-04 01:07:28 -0500 (Mon, 04 Mar 2024) EllapsedTime: 11.3 seconds RetCode: 0 Status: OK PackageFile: statTarget_1.32.0.tgz PackageFileSize: 972.5 KiB