Package: statTarget Version: 1.32.0 Maintainer: Hemi Luan MaintainerEmail: hemi.luan at gmail.com git_url: https://git.bioconductor.org/packages/statTarget git_branch: RELEASE_3_18 git_last_commit: bbfcb61 git_last_commit_date: 2023-10-24 10:53:07 -0400 (Tue, 24 Oct 2023)