Package: standR Version: 1.5.3 Command: /home/biocbuild/R/R-4.3.1/bin/R CMD check --install=check:standR.install-out.txt --library=/home/biocbuild/R/R-4.3.1/site-library --timings standR_1.5.3.tar.gz StartedAt: 2023-10-24 13:47:53 -0000 (Tue, 24 Oct 2023) EndedAt: 2023-10-24 13:56:30 -0000 (Tue, 24 Oct 2023) EllapsedTime: 516.9 seconds RetCode: 0 Status: OK CheckDir: standR.Rcheck Warnings: 0