Package: standR Version: 1.6.0 Command: /home/biocbuild/R/R-4.3.1/bin/R CMD build --keep-empty-dirs --no-resave-data standR StartedAt: 2023-11-02 06:47:42 -0000 (Thu, 02 Nov 2023) EndedAt: 2023-11-02 07:27:43 -0000 (Thu, 02 Nov 2023) EllapsedTime: 2400.8 seconds RetCode: None Status: TIMEOUT PackageFile: None PackageFileSize: NA