Package: staRank Version: 1.44.0 Command: /home/biocbuild/R/R-4.3.1/bin/R CMD INSTALL staRank StartedAt: 2023-11-01 20:46:22 -0000 (Wed, 01 Nov 2023) EndedAt: 2023-11-01 20:47:00 -0000 (Wed, 01 Nov 2023) EllapsedTime: 37.8 seconds RetCode: 0 Status: OK