Package: stJoincount Version: 1.4.0 Command: /Library/Frameworks/R.framework/Resources/bin/R CMD INSTALL stJoincount StartedAt: 2024-04-15 16:09:40 -0400 (Mon, 15 Apr 2024) EndedAt: 2024-04-15 16:11:55 -0400 (Mon, 15 Apr 2024) EllapsedTime: 135.0 seconds RetCode: 0 Status: OK