Package: stJoincount Version: 1.4.0 Command: /Library/Frameworks/R.framework/Resources/bin/R CMD build --keep-empty-dirs --no-resave-data stJoincount StartedAt: 2024-04-15 22:22:51 -0400 (Mon, 15 Apr 2024) EndedAt: 2024-04-15 22:25:39 -0400 (Mon, 15 Apr 2024) EllapsedTime: 168.0 seconds RetCode: 0 Status: OK PackageFile: stJoincount_1.4.0.tar.gz PackageFileSize: 2.672 MiB