Package: stJoincount Version: 1.4.0 Command: /Library/Frameworks/R.framework/Resources/bin/R CMD build --keep-empty-dirs --no-resave-data stJoincount StartedAt: 2024-03-03 18:30:29 -0500 (Sun, 03 Mar 2024) EndedAt: 2024-03-03 18:32:02 -0500 (Sun, 03 Mar 2024) EllapsedTime: 92.4 seconds RetCode: 0 Status: OK PackageFile: stJoincount_1.4.0.tar.gz PackageFileSize: 2.68 MiB