Package: stJoincount Version: 1.4.0 Command: rm -rf stJoincount.buildbin-libdir && mkdir stJoincount.buildbin-libdir && /Users/biocbuild/BBS/utils/build-universal.sh stJoincount_1.4.0.tar.gz /Library/Frameworks/R.framework/Resources/bin/R stJoincount.buildbin-libdir StartedAt: 2024-03-04 01:07:19 -0500 (Mon, 04 Mar 2024) EndedAt: 2024-03-04 01:08:47 -0500 (Mon, 04 Mar 2024) EllapsedTime: 87.5 seconds RetCode: 0 Status: OK PackageFile: stJoincount_1.4.0.tgz PackageFileSize: 2.711 MiB