Package: ssviz Version: 1.36.0 Command: F:\biocbuild\bbs-3.18-bioc\R\bin\R.exe CMD INSTALL ssviz StartedAt: 2024-04-15 16:07:23 -0400 (Mon, 15 Apr 2024) EndedAt: 2024-04-15 16:07:44 -0400 (Mon, 15 Apr 2024) EllapsedTime: 20.5 seconds RetCode: 0 Status: OK