Package: ssviz Version: 1.36.0 Command: /home/biocbuild/bbs-3.18-bioc/R/bin/R CMD check --install=check:ssviz.install-out.txt --library=/home/biocbuild/bbs-3.18-bioc/R/site-library --timings ssviz_1.36.0.tar.gz StartedAt: 2024-04-16 04:26:06 -0400 (Tue, 16 Apr 2024) EndedAt: 2024-04-16 04:28:12 -0400 (Tue, 16 Apr 2024) EllapsedTime: 126.0 seconds RetCode: 0 Status: OK CheckDir: ssviz.Rcheck Warnings: 0