Package: ssviz Version: 1.36.0 Command: /home/biocbuild/bbs-3.18-bioc/R/bin/R CMD build --keep-empty-dirs --no-resave-data ssviz StartedAt: 2024-04-15 19:27:47 -0400 (Mon, 15 Apr 2024) EndedAt: 2024-04-15 19:28:08 -0400 (Mon, 15 Apr 2024) EllapsedTime: 21.9 seconds RetCode: 0 Status: OK PackageFile: ssviz_1.36.0.tar.gz PackageFileSize: 1010 KiB