Package: ssviz Version: 1.36.0 Command: /Library/Frameworks/R.framework/Resources/bin/R CMD build --keep-empty-dirs --no-resave-data ssviz StartedAt: 2024-04-15 22:21:06 -0400 (Mon, 15 Apr 2024) EndedAt: 2024-04-15 22:22:03 -0400 (Mon, 15 Apr 2024) EllapsedTime: 56.6 seconds RetCode: 0 Status: OK PackageFile: ssviz_1.36.0.tar.gz PackageFileSize: 1.153 MiB