Package: ssviz Version: 1.36.0 Command: rm -rf ssviz.buildbin-libdir && mkdir ssviz.buildbin-libdir && /Users/biocbuild/BBS/utils/build-universal.sh ssviz_1.36.0.tar.gz /Library/Frameworks/R.framework/Resources/bin/R ssviz.buildbin-libdir StartedAt: 2024-04-16 12:49:14 -0400 (Tue, 16 Apr 2024) EndedAt: 2024-04-16 12:50:06 -0400 (Tue, 16 Apr 2024) EllapsedTime: 52.0 seconds RetCode: 0 Status: OK PackageFile: ssviz_1.36.0.tgz PackageFileSize: 1.114 MiB