Package: ssviz Version: 1.36.0 Command: rm -rf ssviz.buildbin-libdir && mkdir ssviz.buildbin-libdir && /Users/biocbuild/BBS/utils/build-universal.sh ssviz_1.36.0.tar.gz /Library/Frameworks/R.framework/Resources/bin/R ssviz.buildbin-libdir StartedAt: 2024-03-04 01:07:10 -0500 (Mon, 04 Mar 2024) EndedAt: 2024-03-04 01:07:35 -0500 (Mon, 04 Mar 2024) EllapsedTime: 24.9 seconds RetCode: 0 Status: OK PackageFile: ssviz_1.36.0.tgz PackageFileSize: 1.113 MiB