Package: ssviz Version: 1.36.0 Command: /home/biocbuild/R/R-4.3.1/bin/R CMD check --install=check:ssviz.install-out.txt --library=/home/biocbuild/R/R-4.3.1/site-library --no-vignettes --timings ssviz_1.36.0.tar.gz StartedAt: 2023-11-02 14:39:18 -0000 (Thu, 02 Nov 2023) EndedAt: 2023-11-02 14:41:47 -0000 (Thu, 02 Nov 2023) EllapsedTime: 149.3 seconds RetCode: 0 Status: OK CheckDir: ssviz.Rcheck Warnings: 0