Package: ssviz Version: 1.36.0 Command: /home/biocbuild/R/R-4.3.1/bin/R CMD build --keep-empty-dirs --no-resave-data ssviz StartedAt: 2023-11-02 06:47:16 -0000 (Thu, 02 Nov 2023) EndedAt: 2023-11-02 06:47:45 -0000 (Thu, 02 Nov 2023) EllapsedTime: 29.0 seconds RetCode: 0 Status: OK PackageFile: ssviz_1.36.0.tar.gz PackageFileSize: 1.146 MiB