Package: ssrch Version: 1.18.0 Command: F:\biocbuild\bbs-3.18-bioc\R\bin\R.exe CMD INSTALL ssrch StartedAt: 2024-04-15 16:11:56 -0400 (Mon, 15 Apr 2024) EndedAt: 2024-04-15 16:12:07 -0400 (Mon, 15 Apr 2024) EllapsedTime: 11.1 seconds RetCode: 0 Status: OK