Package: ssrch Version: 1.18.0 Command: F:\biocbuild\bbs-3.18-bioc\R\bin\R.exe CMD check --no-multiarch --install=check:ssrch.install-out.txt --library=F:\biocbuild\bbs-3.18-bioc\R\library --no-vignettes --timings ssrch_1.18.0.tar.gz StartedAt: 2024-04-16 05:33:12 -0400 (Tue, 16 Apr 2024) EndedAt: 2024-04-16 05:33:51 -0400 (Tue, 16 Apr 2024) EllapsedTime: 38.7 seconds RetCode: 0 Status: OK CheckDir: ssrch.Rcheck Warnings: 0