Package: ssrch Version: 1.18.0 Command: chmod a+r ssrch -R && F:\biocbuild\bbs-3.18-bioc\R\bin\R.exe CMD build --keep-empty-dirs --no-resave-data ssrch StartedAt: 2024-04-15 21:30:25 -0400 (Mon, 15 Apr 2024) EndedAt: 2024-04-15 21:30:38 -0400 (Mon, 15 Apr 2024) EllapsedTime: 13.0 seconds RetCode: 0 Status: OK PackageFile: ssrch_1.18.0.tar.gz PackageFileSize: 1.444 MiB