Package: ssrch Version: 1.18.0 Command: rm -rf ssrch.buildbin-libdir && mkdir ssrch.buildbin-libdir && F:\biocbuild\bbs-3.18-bioc\R\bin\R.exe CMD INSTALL --build --library=ssrch.buildbin-libdir ssrch_1.18.0.tar.gz StartedAt: 2024-04-16 07:45:36 -0400 (Tue, 16 Apr 2024) EndedAt: 2024-04-16 07:45:49 -0400 (Tue, 16 Apr 2024) EllapsedTime: 13.3 seconds RetCode: 0 Status: OK PackageFile: ssrch_1.18.0.zip PackageFileSize: 1.387 MiB