Package: ssize Version: 1.76.0 Command: /Library/Frameworks/R.framework/Resources/bin/R CMD build --keep-empty-dirs --no-resave-data ssize StartedAt: 2024-03-03 18:29:25 -0500 (Sun, 03 Mar 2024) EndedAt: 2024-03-03 18:29:37 -0500 (Sun, 03 Mar 2024) EllapsedTime: 11.3 seconds RetCode: 0 Status: OK PackageFile: ssize_1.76.0.tar.gz PackageFileSize: 544.8 KiB