Package: sscu Version: 2.32.0 Command: chmod a+r sscu -R && F:\biocbuild\bbs-3.18-bioc\R\bin\R.exe CMD build --keep-empty-dirs --no-resave-data sscu StartedAt: 2024-04-15 21:29:17 -0400 (Mon, 15 Apr 2024) EndedAt: 2024-04-15 21:29:35 -0400 (Mon, 15 Apr 2024) EllapsedTime: 17.9 seconds RetCode: 0 Status: OK PackageFile: sscu_2.32.0.tar.gz PackageFileSize: 1.287 MiB