Package: sscu Version: 2.32.0 Command: /home/biocbuild/R/R-4.3.1/bin/R CMD build --keep-empty-dirs --no-resave-data sscu StartedAt: 2023-11-02 06:46:32 -0000 (Thu, 02 Nov 2023) EndedAt: 2023-11-02 06:46:49 -0000 (Thu, 02 Nov 2023) EllapsedTime: 17.0 seconds RetCode: 0 Status: OK PackageFile: sscu_2.32.0.tar.gz PackageFileSize: 1.286 MiB