Package: srnadiff Version: 1.22.2 Command: /Library/Frameworks/R.framework/Resources/bin/R CMD INSTALL srnadiff StartedAt: 2024-04-15 16:03:22 -0400 (Mon, 15 Apr 2024) EndedAt: 2024-04-15 16:06:11 -0400 (Mon, 15 Apr 2024) EllapsedTime: 169.6 seconds RetCode: 0 Status: OK