Package: srnadiff Version: 1.22.1 Command: /Library/Frameworks/R.framework/Resources/bin/R CMD INSTALL srnadiff StartedAt: 2024-03-03 15:29:18 -0500 (Sun, 03 Mar 2024) EndedAt: 2024-03-03 15:31:05 -0500 (Sun, 03 Mar 2024) EllapsedTime: 107.8 seconds RetCode: 0 Status: OK